BEGIN:VCALENDAR
VERSION:2.0
PRODID:-//indeed - ECPv6.15.18//NONSGML v1.0//EN
CALSCALE:GREGORIAN
METHOD:PUBLISH
X-WR-CALNAME:indeed
X-ORIGINAL-URL:https://indeedbrewing.com
X-WR-CALDESC:Events for indeed
REFRESH-INTERVAL;VALUE=DURATION:PT1H
X-Robots-Tag:noindex
X-PUBLISHED-TTL:PT1H
BEGIN:VTIMEZONE
TZID:America/Chicago
BEGIN:DAYLIGHT
TZOFFSETFROM:-0600
TZOFFSETTO:-0500
TZNAME:CDT
DTSTART:20240310T080000
END:DAYLIGHT
BEGIN:STANDARD
TZOFFSETFROM:-0500
TZOFFSETTO:-0600
TZNAME:CST
DTSTART:20241103T070000
END:STANDARD
BEGIN:DAYLIGHT
TZOFFSETFROM:-0600
TZOFFSETTO:-0500
TZNAME:CDT
DTSTART:20250309T080000
END:DAYLIGHT
BEGIN:STANDARD
TZOFFSETFROM:-0500
TZOFFSETTO:-0600
TZNAME:CST
DTSTART:20251102T070000
END:STANDARD
BEGIN:DAYLIGHT
TZOFFSETFROM:-0600
TZOFFSETTO:-0500
TZNAME:CDT
DTSTART:20260308T080000
END:DAYLIGHT
BEGIN:STANDARD
TZOFFSETFROM:-0500
TZOFFSETTO:-0600
TZNAME:CST
DTSTART:20261101T070000
END:STANDARD
BEGIN:DAYLIGHT
TZOFFSETFROM:-0600
TZOFFSETTO:-0500
TZNAME:CDT
DTSTART:20270314T080000
END:DAYLIGHT
BEGIN:STANDARD
TZOFFSETFROM:-0500
TZOFFSETTO:-0600
TZNAME:CST
DTSTART:20271107T070000
END:STANDARD
END:VTIMEZONE
BEGIN:VEVENT
DTSTART;TZID=America/Chicago:20260415T190000
DTEND;TZID=America/Chicago:20260415T210000
DTSTAMP:20260419T221546
CREATED:20260311T232308Z
LAST-MODIFIED:20260311T232348Z
UID:10005016-1776279600-1776286800@indeedbrewing.com
SUMMARY:Speed Jigsaw Puzzling Competition at Indeed!
DESCRIPTION:Puzzle Buzz\n			\n				\n				\n				\n				\n				a fast-paced\, team-based puzzle race with prizes\, drinks\, and guaranteed fun.\n			\n				\n				\n				\n				\n				🧩 April Puzzle Buzz Is Here! 🎉 \nJoin us at Indeed Brewing on Wednesday\,April 15th at 7:00pm for your next Speed Puzzling Night! \n\n\nIt’s a fast-paced\, team-based puzzle race with prizes\, drinks\, and guaranteed fun. Spots go quick – snag your tickets and we’ll see you there. \n🧩 Teams of up to four compete to finish a new puzzle every month\, the fastest🏆 Winner scores a gift certificate from Puzzledly.com and the glory📈 All finishers are entered into our national ranking database🎁 Keep the puzzle when you’re done \nGot a group of 5? Sure – but that’ll cost you 10 extra minutes on your finish time.Flying solo? Grab a Puzzle Pairing ticket and we’ll connect you with an open team (if they’re game). \n\n\nWEDNESDAY April 15TH\, 2025\, 7:00 PM – 9:00 PM \n530 S 2nd St\, Milwaukee\, WI 53204 \nHosted by Puzzle Buzz \n			\n				Get Tickets
URL:https://indeedbrewing.com/event/speed-jigsaw-puzzling-competition-at-indeed-6/
LOCATION:Indeed Brewing Company\, 530 SOUTH 2ND STREET\, Milwaukee\, WI\, 53204
CATEGORIES:Milwaukee
ATTACH;FMTTYPE=image/png:https://indeedbrewing.com/wp-content/uploads/2025/11/Speed-Puzzling-3.png
END:VEVENT
BEGIN:VEVENT
DTSTART;TZID=America/Chicago:20260318T190000
DTEND;TZID=America/Chicago:20260318T210000
DTSTAMP:20260419T221546
CREATED:20260311T231637Z
LAST-MODIFIED:20260311T231757Z
UID:10005015-1773860400-1773867600@indeedbrewing.com
SUMMARY:Speed Jigsaw Puzzling Competition at Indeed!
DESCRIPTION:Puzzle Buzz\n			\n				\n				\n				\n				\n				a fast-paced\, team-based puzzle race with prizes\, drinks\, and guaranteed fun.\n			\n				\n				\n				\n				\n				🧩 March Puzzle Buzz Is Here! 🎉 \nJoin us at Indeed Brewing on Wednesday\,March 18th at 7:00pm for your next Speed Puzzling Night! \n\n\nIt’s a fast-paced\, team-based puzzle race with prizes\, drinks\, and guaranteed fun. Spots go quick – snag your tickets and we’ll see you there. \n🧩 Teams of up to four compete to finish a new puzzle every month\, the fastest🏆 Winner scores a gift certificate from Puzzledly.com and the glory📈 All finishers are entered into our national ranking database🎁 Keep the puzzle when you’re done \nGot a group of 5? Sure – but that’ll cost you 10 extra minutes on your finish time.Flying solo? Grab a Puzzle Pairing ticket and we’ll connect you with an open team (if they’re game). \n\n\nWEDNESDAY MARCH 18TH\, 2025\, 7:00 PM – 9:00 PM \n530 S 2nd St\, Milwaukee\, WI 53204 \nHosted by Puzzle Buzz \n			\n				Get Tickets
URL:https://indeedbrewing.com/event/speed-jigsaw-puzzling-competition-at-indeed-5/
LOCATION:Indeed Brewing Company\, 530 SOUTH 2ND STREET\, Milwaukee\, WI\, 53204
CATEGORIES:Milwaukee
ATTACH;FMTTYPE=image/png:https://indeedbrewing.com/wp-content/uploads/2025/11/Speed-Puzzling-3.png
END:VEVENT
BEGIN:VEVENT
DTSTART;TZID=America/Chicago:20260218T190000
DTEND;TZID=America/Chicago:20260218T210000
DTSTAMP:20260419T221546
CREATED:20260113T194358Z
LAST-MODIFIED:20260113T194358Z
UID:10004936-1771441200-1771448400@indeedbrewing.com
SUMMARY:Speed Jigsaw Puzzling Competition at Indeed!
DESCRIPTION:Puzzle Buzz\n			\n				\n				\n				\n				\n				a fast-paced\, team-based puzzle race with prizes\, drinks\, and guaranteed fun.\n			\n				\n				\n				\n				\n				🧩 New Year\, New Puzzles — February Puzzle Buzz Is Here! 🎉 \nWe wrapped up an incredible 2025 thanks to all of you — the teams who raced\, strategized\, shouted “FOUND THE EDGE PIECE\,” and made Puzzle Buzz what it is. ❤️ Now it’s time to kick off 2026 with a brand-new monthly puzzle challenge! \nJoin us at Indeed Brewing on Wednesday\, February 18th at 7:00 for your next Speed Puzzling Night! \nTeams of up to four will race to complete a fresh 500-piece puzzle\, compete for a @puzzled.ly gift cards\, and climb our nationwide rankings. \nAnd yes… we’ve got some amazing puzzle designs lined up for the next few months — including one surprise puzzle we can’t wait to drop. 👀✨ \n🏆 Winners score prizes🎁 Every team keeps their puzzle📊 All finishers ranked nationwide🎟️ Grab your January tickets at puzzle.buzz \n🧩 Flying solo? Get a Puzzle Pairing ticket. \nHere’s to a bigger\, buzzier\, puzzlier 2026. Let’s get to it. 🧩🚀 \nWEDNESDAY FEBRUARY 18TH\, 2025\, 7:00 PM – 9:00 PM \nHosted by Puzzle Buzz \n			\n				Get Tickets
URL:https://indeedbrewing.com/event/speed-jigsaw-puzzling-competition-at-indeed-4/
LOCATION:Indeed Brewing Company\, 530 SOUTH 2ND STREET\, Milwaukee\, WI\, 53204
CATEGORIES:Milwaukee
ATTACH;FMTTYPE=image/png:https://indeedbrewing.com/wp-content/uploads/2025/11/Speed-Puzzling-3.png
END:VEVENT
BEGIN:VEVENT
DTSTART;TZID=America/Chicago:20260121T190000
DTEND;TZID=America/Chicago:20260121T210000
DTSTAMP:20260419T221546
CREATED:20260107T223923Z
LAST-MODIFIED:20260107T224051Z
UID:10004856-1769022000-1769029200@indeedbrewing.com
SUMMARY:Speed Jigsaw Puzzling Competition at Indeed!
DESCRIPTION:Puzzle Buzz\n			\n				\n				\n				\n				\n				a fast-paced\, team-based puzzle race with prizes\, drinks\, and guaranteed fun.\n			\n				\n				\n				\n				\n				🧩 New Year\, New Puzzles — January Puzzle Buzz Is Here! 🎉 \nWe wrapped up an incredible 2025 thanks to all of you — the teams who raced\, strategized\, shouted “FOUND THE EDGE PIECE\,” and made Puzzle Buzz what it is. ❤️ Now it’s time to kick off 2026 with a brand-new monthly puzzle challenge! \nJoin us at Indeed Brewing on Wednesday\, January 21st at 7:00 for your next Speed Puzzling Night! \nTeams of up to four will race to complete a fresh 500-piece puzzle\, compete for a @puzzled.ly gift cards\, and climb our nationwide rankings. \nAnd yes… we’ve got some amazing puzzle designs lined up for the next few months — including one surprise puzzle we can’t wait to drop. 👀✨ \n🏆 Winners score prizes🎁 Every team keeps their puzzle📊 All finishers ranked nationwide🎟️ Grab your January tickets at puzzle.buzz \n🧩 Flying solo? Get a Puzzle Pairing ticket. \nHere’s to a bigger\, buzzier\, puzzlier 2026. Let’s get to it. 🧩🚀 \nWEDNESDAY JANUARY 21ST\, 2025\, 7:00 PM – 9:00 PM \nHosted by Puzzle Buzz \n			\n				Get Tickets
URL:https://indeedbrewing.com/event/speed-jigsaw-puzzling-competition-at-indeed-3/
LOCATION:Indeed Brewing Company\, 530 SOUTH 2ND STREET\, Milwaukee\, WI\, 53204
CATEGORIES:Milwaukee
ATTACH;FMTTYPE=image/png:https://indeedbrewing.com/wp-content/uploads/2025/11/Speed-Puzzling-3.png
END:VEVENT
BEGIN:VEVENT
DTSTART;TZID=America/Chicago:20251217T190000
DTEND;TZID=America/Chicago:20251217T210000
DTSTAMP:20260419T221546
CREATED:20251119T165910Z
LAST-MODIFIED:20251119T170011Z
UID:10004676-1765998000-1766005200@indeedbrewing.com
SUMMARY:Speed Jigsaw Puzzling Competition at Indeed!
DESCRIPTION:Puzzle Buzz\n			\n				\n				\n				\n				\n				a fast-paced\, team-based puzzle race with prizes\, drinks\, and guaranteed fun.\n			\n				\n				\n				\n				\n				🧩 Teams of up to four compete to finish a new puzzle every month\, the fastest\n🏆 Winner scores a gift certificate from Puzzledly.com and the glory\n📈 All finishers are entered into our national ranking database\n🎁 Keep the puzzle when you’re done \nGot a group of 5? Sure – but that’ll cost you 10 extra minutes on your finish time.\nFlying solo? Grab a Puzzle Pairing ticket and we’ll connect you with an open team (if they’re game). \nWEDNESDAY DECEMBER 17TH\, 2025\, 7:00 PM – 9:00 PM \nHosted by Puzzle Buzz \n \n			\n				Get Tickets
URL:https://indeedbrewing.com/event/speed-jigsaw-puzzling-competition-at-indeed-2/
LOCATION:Indeed Brewing Company\, 530 SOUTH 2ND STREET\, Milwaukee\, WI\, 53204
CATEGORIES:Milwaukee
ATTACH;FMTTYPE=image/png:https://indeedbrewing.com/wp-content/uploads/2025/11/Speed-Puzzling-3.png
END:VEVENT
BEGIN:VEVENT
DTSTART;TZID=America/Chicago:20251015T190000
DTEND;TZID=America/Chicago:20251015T210000
DTSTAMP:20260419T221546
CREATED:20250930T190943Z
LAST-MODIFIED:20250930T190943Z
UID:10004627-1760554800-1760562000@indeedbrewing.com
SUMMARY:Speed Jigsaw Puzzling Competition at Indeed!
DESCRIPTION:Puzzle Buzz\n			\n				\n				\n				\n				\n				a fast-paced\, team-based puzzle race with prizes\, drinks\, and guaranteed fun.\n			\n				\n				\n				\n				\n				🧩 Teams of up to four compete to finish a new puzzle every month\, the fastest🏆 Winner scores a gift certificate from Puzzledly.com and the glory📈 All finishers are entered into our national ranking database🎁 Keep the puzzle when you’re done \nGot a group of 5? Sure – but that’ll cost you 10 extra minutes on your finish time.Flying solo? Grab a Puzzle Pairing ticket and we’ll connect you with an open team (if they’re game). \nOct 15\, 2025\, 7:00 PM – 9:00 PM \nHosted by Puzzle Buzz \n  \n			\n				Get Tickets
URL:https://indeedbrewing.com/event/speed-jigsaw-puzzling-competition-at-indeed/
LOCATION:Indeed Brewing Company\, 530 SOUTH 2ND STREET\, Milwaukee\, WI\, 53204
CATEGORIES:Milwaukee
END:VEVENT
END:VCALENDAR